BEGIN:VCALENDAR
VERSION:2.0
PRODID:-//MSSO - ECPv6.15.20//NONSGML v1.0//EN
CALSCALE:GREGORIAN
METHOD:PUBLISH
X-WR-CALNAME:MSSO
X-ORIGINAL-URL:https://msso.blue
X-WR-CALDESC:Events for MSSO
REFRESH-INTERVAL;VALUE=DURATION:PT1H
X-Robots-Tag:noindex
X-PUBLISHED-TTL:PT1H
BEGIN:VTIMEZONE
TZID:Europe/Moscow
BEGIN:STANDARD
TZOFFSETFROM:+0300
TZOFFSETTO:+0300
TZNAME:MSK
DTSTART:20230101T000000
END:STANDARD
END:VTIMEZONE
BEGIN:VTIMEZONE
TZID:UTC
BEGIN:STANDARD
TZOFFSETFROM:+0000
TZOFFSETTO:+0000
TZNAME:UTC
DTSTART:20230101T000000
END:STANDARD
END:VTIMEZONE
BEGIN:VTIMEZONE
TZID:Europe/Helsinki
BEGIN:DAYLIGHT
TZOFFSETFROM:+0200
TZOFFSETTO:+0300
TZNAME:EEST
DTSTART:20240331T010000
END:DAYLIGHT
BEGIN:STANDARD
TZOFFSETFROM:+0300
TZOFFSETTO:+0200
TZNAME:EET
DTSTART:20241027T010000
END:STANDARD
BEGIN:DAYLIGHT
TZOFFSETFROM:+0200
TZOFFSETTO:+0300
TZNAME:EEST
DTSTART:20250330T010000
END:DAYLIGHT
BEGIN:STANDARD
TZOFFSETFROM:+0300
TZOFFSETTO:+0200
TZNAME:EET
DTSTART:20251026T010000
END:STANDARD
BEGIN:DAYLIGHT
TZOFFSETFROM:+0200
TZOFFSETTO:+0300
TZNAME:EEST
DTSTART:20260329T010000
END:DAYLIGHT
BEGIN:STANDARD
TZOFFSETFROM:+0300
TZOFFSETTO:+0200
TZNAME:EET
DTSTART:20261025T010000
END:STANDARD
END:VTIMEZONE
BEGIN:VEVENT
DTSTART;VALUE=DATE:20251126
DTEND;VALUE=DATE:20251127
DTSTAMP:20260423T145954
CREATED:20251006T094452Z
LAST-MODIFIED:20251006T094922Z
UID:1769-1764115200-1764201599@msso.blue
SUMMARY:GreenMED Final Event in Athens
DESCRIPTION:From Insights to Impacts: Designing the Future of Sustainable Shipping in the Mediterranean \nThe GreenMED project will host its Final Event on Wednesday\, November 26th\, 2025\, in Athens\, Greece. \nThis milestone event will present the full results of the project and the official launch of the Mediterranean Sustainable Shipping Observatory (MSSO). High-level speakers and stakeholder dialogue will highlight pathways for maritime decarbonisation\, focusing on supply chain mapping\, energy demand forecasting\, and practical decision-support tools for industry and policymakers. \nSave the date and Register here. \nStay tuned for more info and agenda updates
URL:https://msso.blue/event/greenmed-final-event-in-athens/
LOCATION:NATIONAL TECHNICAL UNIVERSITY OF ATHENS\, Patision Complex\, 28 Oktovriou St. 42\, Athens\, 10682\, Greece
ATTACH;FMTTYPE=image/png:https://msso.blue/wp-content/uploads/2025/10/GreenMED-final-event.png
END:VEVENT
BEGIN:VEVENT
DTSTART;VALUE=DATE:20250928
DTEND;VALUE=DATE:20251004
DTSTAMP:20260423T145954
CREATED:20240924T131816Z
LAST-MODIFIED:20240924T131816Z
UID:1097-1759017600-1759535999@msso.blue
SUMMARY:20th International Congress of the International Maritime Association of the Mediterranean(IMAM) 2025
DESCRIPTION:The IMAM 2025 Congress will offer a forum for maritime professionals to present innovations in maritime engineering and marine technology\, fostering collaboration between academics and industry experts.
URL:https://msso.blue/event/20th-international-congress-of-the-international-maritime-association-of-the-mediterraneanimam-2025/
LOCATION:Crete\, Greece
CATEGORIES:EVENTS
END:VEVENT
BEGIN:VEVENT
DTSTART;TZID=Europe/Helsinki:20250715T090000
DTEND;TZID=Europe/Helsinki:20250715T130000
DTSTAMP:20260423T145954
CREATED:20250708T112127Z
LAST-MODIFIED:20250708T112127Z
UID:1713-1752570000-1752584400@msso.blue
SUMMARY:3rd GreenMED Workshop in Alexandria – GreenMED Insights and MSSO-AISBE Rollout in Egypt: Pathways to Maritime Decarbonization
DESCRIPTION:The 3rd Workshop of the GreenMED project is approaching!\nWe are proud to invite you on Tuesday\, July 15th\, 2025\, at the Arab Academy for Science\, Technology & Maritime Transport (AASTMT) in Alexandria\, Egypt. \nThis upcoming event marks a key milestone for the project\, as it will further open up the project and the ambition of the Mediterranean Sustainable Shipping Observatory (MSSO) to national and regional stakeholders\, in Alexandria\, Egypt. The workshop will present the progress of the GreenMED project\, with a special focus on energy demand and supply chain mapping\, as well as on the expected functionalities of the MSSO platform. The workshop will also include keynote speeches from public authorities and industry leaders\, and participants will have the chance to engage in a multi-stakeholder dialogue and networking activities\, aligning on regional maritime decarbonisation! \nThe workshop will be held in hybrid format\, allowing both onsite and online participation\, and aims to reinforce cooperation among maritime actors in Egypt and the wider Mediterranean region. \nStay tuned as GreenMED continues to shape the future of sustainable maritime transport in the region.\nLooking forward to your presence at this milestone event!
URL:https://msso.blue/event/3rd-greenmed-workshop-in-alexandria-greenmed-insights-and-msso-aisbe-rollout-in-egypt-pathways-to-maritime-decarbonization/
LOCATION:ARAB ACADEMY FOR SCIENCE\, TECHNOLOGY & MARITIME TRANSPORT\, Abu Qir\, Montaza 2\, Alexandria Governorate\, Egypt
END:VEVENT
BEGIN:VEVENT
DTSTART;VALUE=DATE:20250616
DTEND;VALUE=DATE:20250620
DTSTAMP:20260423T145954
CREATED:20240924T131658Z
LAST-MODIFIED:20240924T131658Z
UID:1093-1750032000-1750377599@msso.blue
SUMMARY:OCEANS 2025
DESCRIPTION:Our Ocean Conferences bring together governments and non-state actors to commit to protecting ocean health and security. Similarly\, the OCEANS conference focuses on global maritime professionals working to protect and utilise the ocean.
URL:https://msso.blue/event/oceans-2025/
LOCATION:Brest\, France
CATEGORIES:EVENTS
END:VEVENT
BEGIN:VEVENT
DTSTART;VALUE=DATE:20250521
DTEND;VALUE=DATE:20250524
DTSTAMP:20260423T145954
CREATED:20240924T131544Z
LAST-MODIFIED:20240924T131544Z
UID:1089-1747785600-1748044799@msso.blue
SUMMARY:European Maritime Day 2025
DESCRIPTION:“EMD in my country” aims to raise ocean awareness through local activities such as beach clean-ups\, port tours\, and maritime-themed exhibitions\, engaging audiences across Europe.
URL:https://msso.blue/event/european-maritime-day-2025/
LOCATION:Cork\, Ireland
CATEGORIES:EVENTS
END:VEVENT
BEGIN:VEVENT
DTSTART;VALUE=DATE:20250204
DTEND;VALUE=DATE:20250206
DTSTAMP:20260423T145954
CREATED:20240924T131429Z
LAST-MODIFIED:20240924T131429Z
UID:1085-1738627200-1738799999@msso.blue
SUMMARY:Waterborne Days Conference
DESCRIPTION:The Waterborne Days will provide networking and learning opportunities in waterborne transport\, with presentations and panel discussions featuring representatives from the European Commission and industry.
URL:https://msso.blue/event/waterborne-days-conference/
LOCATION:Brussels\, Belgium
CATEGORIES:EVENTS
END:VEVENT
BEGIN:VEVENT
DTSTART;VALUE=DATE:20241210
DTEND;VALUE=DATE:20241212
DTSTAMP:20260423T145954
CREATED:20240924T131325Z
LAST-MODIFIED:20240924T131325Z
UID:1082-1733788800-1733961599@msso.blue
SUMMARY:Annual Conference of Hellenic Institute of Marine Technology (HIMT)
DESCRIPTION:The H.I.M.T. Annual Conference has established itself as a major event in Greece\, attracting experts and stakeholders in shipping\, with a focus on innovation and practical applications.
URL:https://msso.blue/event/annual-conference-of-hellenic-institute-of-marine-technology-himt/
LOCATION:Athens\, Greece
CATEGORIES:EVENTS
END:VEVENT
BEGIN:VEVENT
DTSTART;VALUE=DATE:20241127
DTEND;VALUE=DATE:20241130
DTSTAMP:20260423T145954
CREATED:20240924T130639Z
LAST-MODIFIED:20240924T130639Z
UID:1078-1732665600-1732924799@msso.blue
SUMMARY:21st EuroXR International Conference
DESCRIPTION:This conference series\, initiated in 2004 under the INTUITION Network of Excellence in Virtual and Augmented Reality\, and later evolving into EuroVR international conferences\, has become a key event for discussing technological advancements.
URL:https://msso.blue/event/21st-euroxr-international-conference/
LOCATION:Athens\, Greece
CATEGORIES:EVENTS
END:VEVENT
BEGIN:VEVENT
DTSTART;VALUE=DATE:20241018
DTEND;VALUE=DATE:20241021
DTSTAMP:20260423T145954
CREATED:20240924T130336Z
LAST-MODIFIED:20240924T130336Z
UID:1070-1729209600-1729468799@msso.blue
SUMMARY:5th International Conference on Environmental Design ICED
DESCRIPTION:The ICED conference will showcase the latest scientific advancements in Environmental Design\, covering sustainability\, pollution\, energy\, urban development\, and climate change\, offering a platform for experts to share insights and innovations.
URL:https://msso.blue/event/5th-international-conference-on-environmental-design-iced/
LOCATION:Athens\, Greece
CATEGORIES:EVENTS
END:VEVENT
BEGIN:VEVENT
DTSTART;VALUE=DATE:20240927
DTEND;VALUE=DATE:20240928
DTSTAMP:20260423T145954
CREATED:20240924T121641Z
LAST-MODIFIED:20240924T125336Z
UID:1053-1727395200-1727481599@msso.blue
SUMMARY:European Researchers’ Night 2024
DESCRIPTION:The event titled “MISSION POSSIBLE” centers around the five EU Missions: “Adaptation to Climate Change\,” “Cancer\,” “Healthy Ocean and Waters\,” “Climate-Neutral and Smart Cities\,” and “Healthy Soils and Food.”
URL:https://msso.blue/event/european-researchers-night-2024/
LOCATION:Κρατική Έκθεση Κύπρου\, 5828+3GJ\, Egkomi 2415\, Nicosia\, Cyprus
CATEGORIES:EVENTS
END:VEVENT
END:VCALENDAR